BEGIN:VCALENDAR
PRODID:-//eluceo/ical//2.0/EN
VERSION:2.0
CALSCALE:GREGORIAN
BEGIN:VEVENT
UID:b612455830c4f17ffee561d05804342d
DTSTAMP:20260420T131942Z
SUMMARY:JCP Board Meeting
DESCRIPTION:Jewish Community Partners\nMemphis Jewish Community Calendar\nh
 ttps://jcpmemphis.org/community-calendar/jcp-board-meetingjan\n\nJewish Co
 mmunity Partners Board Meeting
DTSTART;TZID=America/Chicago:20170118T193000
DTEND;TZID=America/Chicago:20170118T203000
END:VEVENT
END:VCALENDAR
