BEGIN:VCALENDAR
PRODID:-//eluceo/ical//2.0/EN
VERSION:2.0
CALSCALE:GREGORIAN
BEGIN:VEVENT
UID:3d1cb40a69a77aa0824fae91ce407e9b
DTSTAMP:20260420T025209Z
SUMMARY:JCP Camp Cabinet/Board/Agencies 3rd call night
DESCRIPTION:Jewish Community Partners\nMemphis Jewish Community Calendar\nh
 ttps://jcpmemphis.org/community-calendar/jcp-camp-cabinetboardagencies-3rd
 -call-night\n\nJCP Camp Cabinet/Board/Agencies 3rd call night
DTSTART;TZID=America/Chicago:20191217T183000
DTEND;TZID=America/Chicago:20191217T193000
END:VEVENT
END:VCALENDAR
