BEGIN:VCALENDAR
PRODID:-//eluceo/ical//2.0/EN
VERSION:2.0
CALSCALE:GREGORIAN
BEGIN:VEVENT
UID:6403724da04b9e7587edc3bb2e701ae5
DTSTAMP:20260420T074625Z
SUMMARY:JCP Executive Committee Meeting Mar
DESCRIPTION:Jewish Community Partners\nMemphis Jewish Community Calendar\nh
 ttps://jcpmemphis.org/community-calendar/jcp-executive-committee-meeting-m
 ar\n\nJCP Exec Comm Mtg - JCP Conference Rm
DTSTART;TZID=America/Chicago:20180307T183000
DTEND;TZID=America/Chicago:20180307T200000
END:VEVENT
END:VCALENDAR
