BEGIN:VCALENDAR
PRODID:-//eluceo/ical//2.0/EN
VERSION:2.0
CALSCALE:GREGORIAN
BEGIN:VEVENT
UID:8453d21dc1ec73e70c89875ce0a777c9
DTSTAMP:20260420T042350Z
SUMMARY:JCP Executive Meeting
DESCRIPTION:Jewish Community Partners\nMemphis Jewish Community Calendar\nh
 ttps://jcpmemphis.org/community-calendar/jcp-executive-meeting-1437584166\
 n\nJCP Executive Meeting
DTSTART;TZID=America/Chicago:20160210T173000
DTEND;TZID=America/Chicago:20160210T190000
END:VEVENT
END:VCALENDAR
