BEGIN:VCALENDAR
PRODID:-//eluceo/ical//2.0/EN
VERSION:2.0
CALSCALE:GREGORIAN
BEGIN:VEVENT
UID:03b7b594ac3b4e0dd2eae160bf5c18a7
DTSTAMP:20260423T115334Z
SUMMARY:JCP Executive Meeting
DESCRIPTION:Jewish Community Partners\nMemphis Jewish Community Calendar\nh
 ttps://jcpmemphis.org/community-calendar/jcp-executive-meeting-1437584373\
 n\nJCP Executive Meeting
DTSTART;TZID=America/Chicago:20160406T173000
DTEND;TZID=America/Chicago:20160406T190000
END:VEVENT
END:VCALENDAR
