BEGIN:VCALENDAR
PRODID:-//eluceo/ical//2.0/EN
VERSION:2.0
CALSCALE:GREGORIAN
BEGIN:VEVENT
UID:2fd0fc38ca1f392ce175ed84364cab2f
DTSTAMP:20260421T172109Z
SUMMARY:JCP MJF Board Meeting Apr
DESCRIPTION:Jewish Community Partners\nMemphis Jewish Community Calendar\nh
 ttps://jcpmemphis.org/community-calendar/jcp-mjf-board-meeting-apr\n\nJCP 
 MJF Board Meeting\n\nMJCC Board Room
DTSTART;TZID=America/Chicago:20190424T173000
DTEND;TZID=America/Chicago:20190424T183000
END:VEVENT
END:VCALENDAR
