BEGIN:VCALENDAR
PRODID:-//eluceo/ical//2.0/EN
VERSION:2.0
CALSCALE:GREGORIAN
BEGIN:VEVENT
UID:463a8e91ebfea1286d60782aa8fc7b6e
DTSTAMP:20260422T190316Z
SUMMARY:JCP MJF Board Meeting Jan
DESCRIPTION:Jewish Community Partners\nMemphis Jewish Community Calendar\nh
 ttps://jcpmemphis.org/community-calendar/jcp-mjf-board-meeting-jan\n\nJCP 
 MJF Board Meeting\n\nMJCC Board Room
DTSTART;TZID=America/Chicago:20190123T173000
DTEND;TZID=America/Chicago:20190123T183000
END:VEVENT
END:VCALENDAR
