BEGIN:VCALENDAR
PRODID:-//eluceo/ical//2.0/EN
VERSION:2.0
CALSCALE:GREGORIAN
BEGIN:VEVENT
UID:007743f42ff6234cb7f787ff292d2842
DTSTAMP:20260422T004802Z
SUMMARY:JCP\, MJF\, JFOM Board Meeting 1
DESCRIPTION:Jewish Community Partners\nMemphis Jewish Community Calendar\nh
 ttps://jcpmemphis.org/community-calendar/jcp-mjf-jfom-board-meeting-1\n\nJ
 CP\, MJF\, JFOM Board Meeting
DTSTART;TZID=America/Chicago:20190911T173000
DTEND;TZID=America/Chicago:20190911T183000
END:VEVENT
END:VCALENDAR
