BEGIN:VCALENDAR
PRODID:-//eluceo/ical//2.0/EN
VERSION:2.0
CALSCALE:GREGORIAN
BEGIN:VEVENT
UID:58fc74acc1a7d568b8d78ebd33971cc3
DTSTAMP:20260421T132230Z
SUMMARY:JCP Past Presidents Luncheon
DESCRIPTION:Jewish Community Partners\nMemphis Jewish Community Calendar\nh
 ttps://jcpmemphis.org/community-calendar/jcp-past-presidents-luncheon\n\nG
 ood evening and Chag Sameach.    Wishing you and your families well as 
 we enter the new year.\n\n \n\nPlease mark your calendars for a lunch dis
 cussion of the Past Presidents of JCP and its managed organizations:  Mem
 phis Jewish Federation and Jewish Foundation of Memphis\n\n \n\nFriday\, 
 November 10\, 2017\n\n11:45 a.m.\n\nMemphis Jewish Community Center/ Board
  Room\n\nDietary Laws Observed\n\n \n\nOur agenda will include:\n\n\nJCPs
  current role in addressing community challenges\nTh...
DTSTART;TZID=America/Chicago:20171110T114500
DTEND;TZID=America/Chicago:20171110T134500
END:VEVENT
END:VCALENDAR
