BEGIN:VCALENDAR
PRODID:-//eluceo/ical//2.0/EN
VERSION:2.0
CALSCALE:GREGORIAN
BEGIN:VEVENT
UID:9b3619e99d1c9f94ce7818f883dd592d
DTSTAMP:20260420T015151Z
SUMMARY:Super Sunday 2016: The Amazing Raise
DESCRIPTION:Jewish Community Partners\nMemphis Jewish Community Calendar\nh
 ttps://jcpmemphis.org/community-calendar/jcp-super-sunday\n\nBe a part of 
 the Raise!\n\n\n\n\n\nJoin us on Sunday\, February 7 at the MJCC for Feder
 ation's Amazing Raise: Race to the Finish\n\n\n\nA strong community begins
  with you! Join friends and family at the Amazing Raise\, our chance to ra
 ise much needed funds to support Jewish families in Memphis\, Israel and a
 round the world. We encourage you to be part of this day of community buil
 ding - help out\, nosh and schmooze with your friends.\n\n \n\n10 am- 1pm
 \nVolunteer\nWe need Callers\, Greeters\, ...
DTSTART;TZID=America/Chicago:20160207T090000
DTEND;TZID=America/Chicago:20160207T140000
END:VEVENT
END:VCALENDAR
