BEGIN:VCALENDAR
PRODID:-//eluceo/ical//2.0/EN
VERSION:2.0
CALSCALE:GREGORIAN
BEGIN:VEVENT
UID:46aaa490c6db2ac1d7643d5798349e9a
DTSTAMP:20260423T062354Z
SUMMARY:Jewish Community Open House at the MJCC
DESCRIPTION:Jewish Community Partners\nMemphis Jewish Community Calendar\nh
 ttps://jcpmemphis.org/community-calendar/jewish-community-open-house-at-th
 e-mjcc-1429548708\n\nNot Currently a Member of the MJCC but are interested
  in trying out what we have to offer?  Stop by the MJCC between 10-2 for a
 n opportunity to check us out!
DTSTART;TZID=America/Chicago:20150628T100000
DTEND;TZID=America/Chicago:20150628T140000
END:VEVENT
END:VCALENDAR
