BEGIN:VCALENDAR
PRODID:-//eluceo/ical//2.0/EN
VERSION:2.0
CALSCALE:GREGORIAN
BEGIN:VEVENT
UID:59252514b6078fe9b244ef6b07dbc8ae
DTSTAMP:20260425T172652Z
SUMMARY:Jewish Foundation's Create Your Jewish Legacy Training IV
DESCRIPTION:Jewish Community Partners\nMemphis Jewish Community Calendar\nh
 ttps://jcpmemphis.org/community-calendar/jewish-foundations-create-your-je
 wish-legacy-training-iv-31203\n\nCYJL Training: Stewardship & Recognition
DTSTART;TZID=America/Chicago:20130424T120000
DTEND;TZID=America/Chicago:20130424T133000
END:VEVENT
END:VCALENDAR
