BEGIN:VCALENDAR
PRODID:-//eluceo/ical//2.0/EN
VERSION:2.0
CALSCALE:GREGORIAN
BEGIN:VEVENT
UID:39d89ac1ac29396e357fa84d1f08db2a
DTSTAMP:20260419T123137Z
SUMMARY:Jewish Historical Society
DESCRIPTION:Jewish Community Partners\nMemphis Jewish Community Calendar\nh
 ttps://jcpmemphis.org/community-calendar/jewish-historical-society-1540474
 308\n\nTim Lorsch presents a moving narrative musical performance of "The 
 Suitcase."
DTSTART;TZID=America/Chicago:20181209T140000
DTEND;TZID=America/Chicago:20181209T160000
END:VEVENT
END:VCALENDAR
