BEGIN:VCALENDAR
PRODID:-//eluceo/ical//2.0/EN
VERSION:2.0
CALSCALE:GREGORIAN
BEGIN:VEVENT
UID:aa597615ab6a30a49d3e4c269df5768e
DTSTAMP:20260423T192414Z
SUMMARY:Jewish Historical Society
DESCRIPTION:Jewish Community Partners\nMemphis Jewish Community Calendar\nh
 ttps://jcpmemphis.org/community-calendar/jewish-historical-society-1540474
 924\n\nChuck Fishman\, Roots-Resistance-Renewal: Polish Jews 1975 to Prese
 nt
DTSTART;TZID=America/Chicago:20190414T140000
DTEND;TZID=America/Chicago:20190414T160000
END:VEVENT
END:VCALENDAR
