BEGIN:VCALENDAR
PRODID:-//eluceo/ical//2.0/EN
VERSION:2.0
CALSCALE:GREGORIAN
BEGIN:VEVENT
UID:fce16ff5c3bed845e3005bef64654f01
DTSTAMP:20260423T031003Z
SUMMARY:Jewish Rock Radio Meeting
DESCRIPTION:Jewish Community Partners\nMemphis Jewish Community Calendar\nh
 ttps://jcpmemphis.org/community-calendar/jewish-rock-radio-meeting\n\nParl
 or meeting to discuss Jewish Rock Radio
DTSTART;TZID=America/Chicago:20150908T183000
DTEND;TZID=America/Chicago:20150908T203000
END:VEVENT
END:VCALENDAR
