BEGIN:VCALENDAR
PRODID:-//eluceo/ical//2.0/EN
VERSION:2.0
CALSCALE:GREGORIAN
BEGIN:VEVENT
UID:525e1647f74a22dfdac35e320f0ee3e9
DTSTAMP:20260420T024240Z
SUMMARY:JFOM Board Meeting
DESCRIPTION:Jewish Community Partners\nMemphis Jewish Community Calendar\nh
 ttps://jcpmemphis.org/community-calendar/jfom-board-meetingjun\n\nJewish F
 oundation of Memphis Board Meeting
DTSTART;TZID=America/Chicago:20170606T183000
DTEND;TZID=America/Chicago:20170606T193000
END:VEVENT
END:VCALENDAR
