BEGIN:VCALENDAR
PRODID:-//eluceo/ical//2.0/EN
VERSION:2.0
CALSCALE:GREGORIAN
BEGIN:VEVENT
UID:998d3aef15ae4617df5289502212fe9b
DTSTAMP:20260419T202618Z
SUMMARY:JFS at MJCC Volunteer Orientation
DESCRIPTION:Jewish Community Partners\nMemphis Jewish Community Calendar\nh
 ttps://jcpmemphis.org/community-calendar/jfs-at-mjcc-volunteer-orientation
 -1425317918\n\nVolunteer Orientation .
DTSTART;TZID=America/Chicago:20150318T173000
DTEND;TZID=America/Chicago:20150318T200000
END:VEVENT
END:VCALENDAR
