BEGIN:VCALENDAR
PRODID:-//eluceo/ical//2.0/EN
VERSION:2.0
CALSCALE:GREGORIAN
BEGIN:VEVENT
UID:4efedb145d8417db9a3ef442dc6abe75
DTSTAMP:20260421T205332Z
SUMMARY:JLI Spring Course @ Chabad
DESCRIPTION:Jewish Community Partners\nMemphis Jewish Community Calendar\nh
 ttps://jcpmemphis.org/community-calendar/jli-spring-course--chabad\n\nJLI 
 Spring Course @ Chabad
DTSTART;TZID=America/Chicago:20130603T190000
DTEND;TZID=America/Chicago:20130603T193000
END:VEVENT
END:VCALENDAR
