BEGIN:VCALENDAR
PRODID:-//eluceo/ical//2.0/EN
VERSION:2.0
CALSCALE:GREGORIAN
BEGIN:VEVENT
UID:3a29505676eb252c00583d39331da483
DTSTAMP:20260421T075632Z
SUMMARY:Junior Youth Group Event Jan
DESCRIPTION:Jewish Community Partners\nMemphis Jewish Community Calendar\nh
 ttps://jcpmemphis.org/community-calendar/junior-youth-group-event-jan\n\nJ
 unior Youth Group Event
DTSTART;TZID=America/Chicago:20190109T180000
DTEND;TZID=America/Chicago:20190109T193000
END:VEVENT
END:VCALENDAR
