BEGIN:VCALENDAR
PRODID:-//eluceo/ical//2.0/EN
VERSION:2.0
CALSCALE:GREGORIAN
BEGIN:VEVENT
UID:863896df8b8bcdccaa184a303059384b
DTSTAMP:20260420T011911Z
SUMMARY:Junior Youth Group Event October
DESCRIPTION:Jewish Community Partners\nMemphis Jewish Community Calendar\nh
 ttps://jcpmemphis.org/community-calendar/junior-youth-group-event-october\
 n\nJunior Youth Group Event
DTSTART;TZID=America/Chicago:20181017T180000
DTEND;TZID=America/Chicago:20181017T193000
END:VEVENT
END:VCALENDAR
