BEGIN:VCALENDAR
PRODID:-//eluceo/ical//2.0/EN
VERSION:2.0
CALSCALE:GREGORIAN
BEGIN:VEVENT
UID:9fc626826936078c9c2a3e5079589e2f
DTSTAMP:20260423T054506Z
SUMMARY:Junior Youth Group Event Sept
DESCRIPTION:Jewish Community Partners\nMemphis Jewish Community Calendar\nh
 ttps://jcpmemphis.org/community-calendar/junior-youth-group-event-sept\n\n
 Junior Youth Group Event
DTSTART;TZID=America/Chicago:20180912T180000
DTEND;TZID=America/Chicago:20180912T193000
END:VEVENT
END:VCALENDAR
