BEGIN:VCALENDAR
PRODID:-//eluceo/ical//2.0/EN
VERSION:2.0
CALSCALE:GREGORIAN
BEGIN:VEVENT
UID:006f063f3b227a5cc6eee54032cf537c
DTSTAMP:20260421T181427Z
SUMMARY:Keep on Laughing
DESCRIPTION:Jewish Community Partners\nMemphis Jewish Community Calendar\nh
 ttps://jcpmemphis.org/community-calendar/keep-on-laughing-31320\n\nKeep on
  Laughing
DTSTART;TZID=America/Chicago:20131020T180000
DTEND;TZID=America/Chicago:20131020T203000
END:VEVENT
END:VCALENDAR
