BEGIN:VCALENDAR
PRODID:-//eluceo/ical//2.0/EN
VERSION:2.0
CALSCALE:GREGORIAN
BEGIN:VEVENT
UID:8871a3aad52368d115e839c73cd1a81b
DTSTAMP:20260422T042238Z
SUMMARY:Kohelet Graduation
DESCRIPTION:Jewish Community Partners\nMemphis Jewish Community Calendar\nh
 ttps://jcpmemphis.org/community-calendar/kohelet-graduation\n\nKohelet Gra
 duation
DTSTART;TZID=America/Chicago:20130507T190000
DTEND;TZID=America/Chicago:20130507T193000
END:VEVENT
END:VCALENDAR
