BEGIN:VCALENDAR
PRODID:-//eluceo/ical//2.0/EN
VERSION:2.0
CALSCALE:GREGORIAN
BEGIN:VEVENT
UID:d82d28a78bdce6edd0b8a28d337604e7
DTSTAMP:20260421T124559Z
SUMMARY:Krav Maga Class for Israel Week
DESCRIPTION:Jewish Community Partners\nMemphis Jewish Community Calendar\nh
 ttps://jcpmemphis.org/community-calendar/krav-maga-class-for-israel-week-1
 520458190\n\nLearn Israeli self-defense at the MJCC from the experts at En
 durance Krav Maga. Class is free\, but pre-registration is requested so we
  can select an appropriately sized space. (Reg #4958) Open to all levels o
 f experience.
DTSTART;TZID=America/Chicago:20180416T180000
DTEND;TZID=America/Chicago:20180416T190000
END:VEVENT
END:VCALENDAR
