BEGIN:VCALENDAR
PRODID:-//eluceo/ical//2.0/EN
VERSION:2.0
CALSCALE:GREGORIAN
BEGIN:VEVENT
UID:cc520078419245db0ce0b0476652de2a
DTSTAMP:20260419T173654Z
SUMMARY:Lehrhaus speaker Dr. Stephen Haynes
DESCRIPTION:Jewish Community Partners\nMemphis Jewish Community Calendar\nh
 ttps://jcpmemphis.org/community-calendar/lehrhaus-speaker-dr-stephen-hayne
 s-1517420679\n\nJoin us at Beth Sholom as Dr. Stephen Haynes will discuss 
 “The Battle for Bonhoeffer: Debating Discipleship in the Era of Obama an
 d Trump.” Dr. Haynes will engage the question of why Evangelical Christi
 ans voted in such large numbers for Donald Trump. Stephen R. Haynes is the
  A. B. Curry Professor of Religious Studies at Rhodes College\, where he h
 as taught since 1989. He is author of editor of eleven books\, including s
 everal related to the legacy of Dietrich Bonhoeffer.The program will be...
DTSTART;TZID=America/Chicago:20180213T190000
DTEND;TZID=America/Chicago:20180213T203000
END:VEVENT
END:VCALENDAR
