BEGIN:VCALENDAR
PRODID:-//eluceo/ical//2.0/EN
VERSION:2.0
CALSCALE:GREGORIAN
BEGIN:VEVENT
UID:0953cb8f585f7e33b2504d4003eb6286
DTSTAMP:20260422T042041Z
SUMMARY:Margolin Hebrew Academy High School Graduation
DESCRIPTION:Jewish Community Partners\nMemphis Jewish Community Calendar\nh
 ttps://jcpmemphis.org/community-calendar/margolin-hebrew-academy-high-scho
 ol-graduation-1520357248\n\nMargolin Hebrew Academy's 51st Commencement Ex
 ercise
DTSTART;TZID=America/Chicago:20180603T190000
DTEND;TZID=America/Chicago:20180603T210000
END:VEVENT
END:VCALENDAR
