BEGIN:VCALENDAR
PRODID:-//eluceo/ical//2.0/EN
VERSION:2.0
CALSCALE:GREGORIAN
BEGIN:VEVENT
UID:3351914b2674ccba3924ccdd636a2807
DTSTAMP:20260422T170011Z
SUMMARY:Mary Hytken Dumont University at ASBEE: Lights\, Camera\, Action!
DESCRIPTION:Jewish Community Partners\nMemphis Jewish Community Calendar\nh
 ttps://jcpmemphis.org/community-calendar/mary-hytken-dumont-university-at-
 asbee-lights-camera-action-1520976864\n\nMary Hytken Dumont University pre
 sents: Lights\, Camera\, Action - Dramatization of the Bible followed by D
 iscussionRabbi Joel Finkelstein will bring out the Biblical characters in 
 a brief dramatization and then the group will discuss the issues raised by
  the show and the Biblical text.Tuesday evenings in May at 8:15pm May 8: K
 ing Saul: Lost Soul or Responsible Adult? May 15: Boaz: Savior of Ruth or 
 Slow on the Draw? May 29: King David: A Marital Dispute - Dignity vs Piety
  in Dancing Before G-d
DTSTART;TZID=America/Chicago:20180508T201500
DTEND;TZID=America/Chicago:20180508T213000
END:VEVENT
END:VCALENDAR
