BEGIN:VCALENDAR
PRODID:-//eluceo/ical//2.0/EN
VERSION:2.0
CALSCALE:GREGORIAN
BEGIN:VEVENT
UID:90dbecc9b718ddc4e7d797741b0dc577
DTSTAMP:20260423T203420Z
SUMMARY:Memphis Grizzlies vs. Golden State
DESCRIPTION:Jewish Community Partners\nMemphis Jewish Community Calendar\nh
 ttps://jcpmemphis.org/community-calendar/memphis-grizzlies-vs-golden-state
 2\n\nMemphis Grizzlies vs. Golden State
DTSTART;TZID=America/Chicago:20160409T190000
DTEND;TZID=America/Chicago:20160409T220000
END:VEVENT
END:VCALENDAR
