BEGIN:VCALENDAR
PRODID:-//eluceo/ical//2.0/EN
VERSION:2.0
CALSCALE:GREGORIAN
BEGIN:VEVENT
UID:c7e9ce091f2f84227b16d73a6d4fcbc0
DTSTAMP:20260420T041823Z
SUMMARY:Memphis Grizzlies vs. OKC
DESCRIPTION:Jewish Community Partners\nMemphis Jewish Community Calendar\nh
 ttps://jcpmemphis.org/community-calendar/memphis-grizzlies-vs-okc2\n\nMemp
 his Grizzlies home game vs. OKC
DTSTART;TZID=America/Chicago:20151208T190000
DTEND;TZID=America/Chicago:20151208T220000
END:VEVENT
END:VCALENDAR
