BEGIN:VCALENDAR
PRODID:-//eluceo/ical//2.0/EN
VERSION:2.0
CALSCALE:GREGORIAN
BEGIN:VEVENT
UID:28748414d467853ecb1a177d300f15fc
DTSTAMP:20260421T215126Z
SUMMARY:Memphis Grizzlies vs. Washington
DESCRIPTION:Jewish Community Partners\nMemphis Jewish Community Calendar\nh
 ttps://jcpmemphis.org/community-calendar/memphis-grizzlies-vs-washington\n
 \nMemphis Grizzlies home game vs. Washington
DTSTART;TZID=America/Chicago:20151214T190000
DTEND;TZID=America/Chicago:20151214T220000
END:VEVENT
END:VCALENDAR
