BEGIN:VCALENDAR
PRODID:-//eluceo/ical//2.0/EN
VERSION:2.0
CALSCALE:GREGORIAN
BEGIN:VEVENT
UID:967778e780893153f7bb9fc949c0ea74
DTSTAMP:20260423T192344Z
SUMMARY:Memphis Kollel Chanukah Melava Malka
DESCRIPTION:Jewish Community Partners\nMemphis Jewish Community Calendar\nh
 ttps://jcpmemphis.org/community-calendar/memphis-kollel-chanukah-melava-ma
 lka-1542158612\n\nJoin the Memphis Kollel for a Chanukah-themed shiur and 
 a delicious Melava Malka!
DTSTART;TZID=America/Chicago:20181208T200000
DTEND;TZID=America/Chicago:20181208T213000
END:VEVENT
END:VCALENDAR
