BEGIN:VCALENDAR
PRODID:-//eluceo/ical//2.0/EN
VERSION:2.0
CALSCALE:GREGORIAN
BEGIN:VEVENT
UID:4fa59a7ee5fa86291188de5a57ea0ef0
DTSTAMP:20260423T062119Z
SUMMARY:Memphis Kollel Pre-Pesach Shiur
DESCRIPTION:Jewish Community Partners\nMemphis Jewish Community Calendar\nh
 ttps://jcpmemphis.org/community-calendar/memphis-kollel-pre-pesach-shiur-1
 520637881\n\n"From Ajax to Apex: Finding Meaning in the Pesach Experience"
  given by Rabbi Shuki Nissan
DTSTART;TZID=America/Chicago:20180320T203000
DTEND;TZID=America/Chicago:20180320T211500
END:VEVENT
END:VCALENDAR
