BEGIN:VCALENDAR
PRODID:-//eluceo/ical//2.0/EN
VERSION:2.0
CALSCALE:GREGORIAN
BEGIN:VEVENT
UID:2fd977e654c66314aec57eaa47540ed3
DTSTAMP:20260423T062329Z
SUMMARY:Memphis Kollel Pre-Yom Kippur Shiur
DESCRIPTION:Jewish Community Partners\nMemphis Jewish Community Calendar\nh
 ttps://jcpmemphis.org/community-calendar/memphis-kollel-pre-yom-kippur-shi
 ur-1534820109\n\n"When the Gates are Open" presented by Rabbi Shuki Nissan
DTSTART;TZID=America/Chicago:20180916T201500
DTEND;TZID=America/Chicago:20180916T210000
END:VEVENT
END:VCALENDAR
