BEGIN:VCALENDAR
PRODID:-//eluceo/ical//2.0/EN
VERSION:2.0
CALSCALE:GREGORIAN
BEGIN:VEVENT
UID:5043f906ecc367cfee714b959d5b5bc3
DTSTAMP:20260422T081822Z
SUMMARY:Memphis Tigers vs. Louisiana Tech
DESCRIPTION:Jewish Community Partners\nMemphis Jewish Community Calendar\nh
 ttps://jcpmemphis.org/community-calendar/memphis-tigers-vs-louisiana-tech\
 n\nMemphis Tigers home game vs.Louisiana Tech
DTSTART;TZID=America/Chicago:20151201T200000
DTEND;TZID=America/Chicago:20151201T220000
END:VEVENT
END:VCALENDAR
