BEGIN:VCALENDAR
PRODID:-//eluceo/ical//2.0/EN
VERSION:2.0
CALSCALE:GREGORIAN
BEGIN:VEVENT
UID:b14465a159d0a4b6da506289e339b091
DTSTAMP:20260422T034041Z
SUMMARY:Memphis Tigers vs. Oklahoma
DESCRIPTION:Jewish Community Partners\nMemphis Jewish Community Calendar\nh
 ttps://jcpmemphis.org/community-calendar/memphis-tigers-vs-oklahoma\n\nMem
 phis Tigers home game vs.Oklahoma
DTSTART;TZID=America/Chicago:20151117T160000
DTEND;TZID=America/Chicago:20151117T180000
END:VEVENT
END:VCALENDAR
