BEGIN:VCALENDAR
PRODID:-//eluceo/ical//2.0/EN
VERSION:2.0
CALSCALE:GREGORIAN
BEGIN:VEVENT
UID:cb6048059be5bb2c77cd187603179d0f
DTSTAMP:20260422T093304Z
SUMMARY:Memphis Tigers vs. Temple
DESCRIPTION:Jewish Community Partners\nMemphis Jewish Community Calendar\nh
 ttps://jcpmemphis.org/community-calendar/memphis-tigers-vs-temple\n\nMemph
 is Tigers home game vs. Temple
DTSTART;TZID=America/Chicago:20160113T190000
DTEND;TZID=America/Chicago:20160113T210000
END:VEVENT
END:VCALENDAR
