BEGIN:VCALENDAR
PRODID:-//eluceo/ical//2.0/EN
VERSION:2.0
CALSCALE:GREGORIAN
BEGIN:VEVENT
UID:824fd4b4203744d6f01c6bb37c9f188a
DTSTAMP:20260420T221358Z
SUMMARY:MFOI Board Meeting
DESCRIPTION:Jewish Community Partners\nMemphis Jewish Community Calendar\nh
 ttps://jcpmemphis.org/community-calendar/mfoi-board-meeting-1421020119\n\n
 Monthly board meeting
DTSTART;TZID=America/Chicago:20150519T180000
DTEND;TZID=America/Chicago:20150519T190000
END:VEVENT
END:VCALENDAR
