BEGIN:VCALENDAR
PRODID:-//eluceo/ical//2.0/EN
VERSION:2.0
CALSCALE:GREGORIAN
BEGIN:VEVENT
UID:20c1cc353a25c9a1ca752b2f40838411
DTSTAMP:20260424T144442Z
SUMMARY:MHA 8th grade Graduation
DESCRIPTION:Jewish Community Partners\nMemphis Jewish Community Calendar\nh
 ttps://jcpmemphis.org/community-calendar/mha-8th-grade-graduation\n\nMHA 8
 th grade Graduation
DTSTART;TZID=America/Chicago:20140602T190000
DTEND;TZID=America/Chicago:20140602T193000
END:VEVENT
END:VCALENDAR
