BEGIN:VCALENDAR
PRODID:-//eluceo/ical//2.0/EN
VERSION:2.0
CALSCALE:GREGORIAN
BEGIN:VEVENT
UID:c7a3815582d919b84d4c4fb9a7257178
DTSTAMP:20260425T001112Z
SUMMARY:MHA Annual Auction
DESCRIPTION:Jewish Community Partners\nMemphis Jewish Community Calendar\nh
 ttps://jcpmemphis.org/community-calendar/mha-annual-auction\n\nMHA Annual 
 Auction
DTSTART;TZID=America/Chicago:20130310T180000
DTEND;TZID=America/Chicago:20130310T183000
END:VEVENT
END:VCALENDAR
