BEGIN:VCALENDAR
PRODID:-//eluceo/ical//2.0/EN
VERSION:2.0
CALSCALE:GREGORIAN
BEGIN:VEVENT
UID:48d509944c4a22941241fd480f8224f0
DTSTAMP:20260420T025517Z
SUMMARY:MHA Book Club
DESCRIPTION:Jewish Community Partners\nMemphis Jewish Community Calendar\nh
 ttps://jcpmemphis.org/community-calendar/mha-book-club-31108\n\nMHA Book C
 lub
DTSTART;TZID=America/Chicago:20130123T200000
DTEND;TZID=America/Chicago:20130123T210000
END:VEVENT
END:VCALENDAR
