BEGIN:VCALENDAR
PRODID:-//eluceo/ical//2.0/EN
VERSION:2.0
CALSCALE:GREGORIAN
BEGIN:VEVENT
UID:96101ac3ad80bab5e6a553182ac626df
DTSTAMP:20260424T071603Z
SUMMARY:MHA-FYOS Celebration of Learning
DESCRIPTION:Jewish Community Partners\nMemphis Jewish Community Calendar\nh
 ttps://jcpmemphis.org/community-calendar/mha-fyos-celebration-of-learning-
 1546485010\n\nStudents will showcase what they have learned throughout the
  year.
DTSTART;TZID=America/Chicago:20190522T180000
DTEND;TZID=America/Chicago:20190522T200000
END:VEVENT
END:VCALENDAR
