BEGIN:VCALENDAR
PRODID:-//eluceo/ical//2.0/EN
VERSION:2.0
CALSCALE:GREGORIAN
BEGIN:VEVENT
UID:46b986589d1ca77cca8b418721084d26
DTSTAMP:20260425T172722Z
SUMMARY:MHA Girls High School Gala Dinner
DESCRIPTION:Jewish Community Partners\nMemphis Jewish Community Calendar\nh
 ttps://jcpmemphis.org/community-calendar/mha-girls-high-school-gala-dinner
 -1415725729\n\nThe community is invited to attend the Goldie Margolin Scho
 ol for Girls Gala Dinner. This is a fun and delicious dinner that the girl
 s plan. Please let us know if you are interested in attending - usoffice@m
 hafyos.org
DTSTART;TZID=America/Chicago:20150426T180000
DTEND;TZID=America/Chicago:20150427T000000
END:VEVENT
END:VCALENDAR
