BEGIN:VCALENDAR
PRODID:-//eluceo/ical//2.0/EN
VERSION:2.0
CALSCALE:GREGORIAN
BEGIN:VEVENT
UID:75e63b97a648d180148dfff71915c7b1
DTSTAMP:20260423T025805Z
SUMMARY:MHA Grades 1-8 Parent Teacher Conferences
DESCRIPTION:Jewish Community Partners\nMemphis Jewish Community Calendar\nh
 ttps://jcpmemphis.org/community-calendar/mha-grades-1-8-parent-teacher-con
 ferences-1547225140\n\nParent Teacher Conferences for MHA Parents. Grades 
 1-8.
DTSTART;TZID=America/Chicago:20190227T180000
DTEND;TZID=America/Chicago:20190227T210000
END:VEVENT
END:VCALENDAR
