BEGIN:VCALENDAR
PRODID:-//eluceo/ical//2.0/EN
VERSION:2.0
CALSCALE:GREGORIAN
BEGIN:VEVENT
UID:d0b2f7f450150180f91da8793d995902
DTSTAMP:20260421T143005Z
SUMMARY:MHA High School Open House
DESCRIPTION:Jewish Community Partners\nMemphis Jewish Community Calendar\nh
 ttps://jcpmemphis.org/community-calendar/mha-high-school-open-house-144440
 0445\n\nHigh School Open House for the Cooper Yeshiva for Boys and the Gol
 die Margolin School for Girls.
DTSTART;TZID=America/Chicago:20151117T190000
DTEND;TZID=America/Chicago:20151117T203000
END:VEVENT
END:VCALENDAR
