BEGIN:VCALENDAR
PRODID:-//eluceo/ical//2.0/EN
VERSION:2.0
CALSCALE:GREGORIAN
BEGIN:VEVENT
UID:bf065906965b6be97be9fc838fd1a7f4
DTSTAMP:20260424T062908Z
SUMMARY:MHA Kindergarten Graduation
DESCRIPTION:Jewish Community Partners\nMemphis Jewish Community Calendar\nh
 ttps://jcpmemphis.org/community-calendar/mha-kindergarten-graduation-14667
 80722\n\nMazal Tov to the MHA Kindergarten Graduates 2017!
DTSTART;TZID=America/Chicago:20170604T103000
DTEND;TZID=America/Chicago:20170604T120000
END:VEVENT
END:VCALENDAR
