BEGIN:VCALENDAR
PRODID:-//eluceo/ical//2.0/EN
VERSION:2.0
CALSCALE:GREGORIAN
BEGIN:VEVENT
UID:68f5eb4a98287ee626503659cb3c9bef
DTSTAMP:20260422T220316Z
SUMMARY:MJCC Annual Meeting
DESCRIPTION:Jewish Community Partners\nMemphis Jewish Community Calendar\nh
 ttps://jcpmemphis.org/community-calendar/mjcc-annual-meeting\n\nMJCC Annua
 l Meeting
DTSTART;TZID=America/Chicago:20140501T173000
DTEND;TZID=America/Chicago:20140501T180000
END:VEVENT
END:VCALENDAR
