BEGIN:VCALENDAR
PRODID:-//eluceo/ical//2.0/EN
VERSION:2.0
CALSCALE:GREGORIAN
BEGIN:VEVENT
UID:f8c696eec79c6eea95f7c875ce35b394
DTSTAMP:20260420T073850Z
SUMMARY:MJCC Board Meeting
DESCRIPTION:Jewish Community Partners\nMemphis Jewish Community Calendar\nh
 ttps://jcpmemphis.org/community-calendar/mjcc-board-meeting-1567022291\n\n
 MJCC Board of Directors meeting.
DTSTART;TZID=America/Chicago:20200116T190000
DTEND;TZID=America/Chicago:20200116T200000
END:VEVENT
END:VCALENDAR
