BEGIN:VCALENDAR
PRODID:-//eluceo/ical//2.0/EN
VERSION:2.0
CALSCALE:GREGORIAN
BEGIN:VEVENT
UID:d251074f0306c6848fe997358855fd77
DTSTAMP:20260424T083926Z
SUMMARY:MJCC: Conversational Hebrew with Yuval
DESCRIPTION:Jewish Community Partners\nMemphis Jewish Community Calendar\nh
 ttps://jcpmemphis.org/community-calendar/mjcc-conversational-hebrew-with-y
 uval-1603286654\n\nLearn basic conversational Hebrew with Yuval from the c
 omfort of your living room. This zoom class will help build your confidenc
 e and Hebrew vocabulary in a fun\, relaxed environment.
DTSTART;TZID=America/Chicago:20210203T120000
DTEND;TZID=America/Chicago:20210203T130000
END:VEVENT
END:VCALENDAR
