BEGIN:VCALENDAR
PRODID:-//eluceo/ical//2.0/EN
VERSION:2.0
CALSCALE:GREGORIAN
BEGIN:VEVENT
UID:a1087344816a4e023a0c0a5c14d4b0fe
DTSTAMP:20260423T192054Z
SUMMARY:MJCC Fall 2017 Israeli Scholar in Residence
DESCRIPTION:Jewish Community Partners\nMemphis Jewish Community Calendar\nh
 ttps://jcpmemphis.org/community-calendar/mjcc-fall-2017-israeli-scholar-in
 -residence-1502138595\n\nEvents throughout the community and highlights at
  the MJCC all throughout the week.
DTSTART;TZID=America/Chicago:20171126T100000
DTEND;TZID=America/Chicago:20171203T150000
END:VEVENT
END:VCALENDAR
