BEGIN:VCALENDAR
PRODID:-//eluceo/ical//2.0/EN
VERSION:2.0
CALSCALE:GREGORIAN
BEGIN:VEVENT
UID:5faf8b1fad52656226aae3735d419fb4
DTSTAMP:20260422T115829Z
SUMMARY:MJCC Film Night
DESCRIPTION:Jewish Community Partners\nMemphis Jewish Community Calendar\nh
 ttps://jcpmemphis.org/community-calendar/mjcc-film-night-1530540905\n\nMJC
 C Film Screening of Good Grief
DTSTART;TZID=America/Chicago:20180802T190000
DTEND;TZID=America/Chicago:20180802T210000
END:VEVENT
END:VCALENDAR
